BEGIN:VCALENDAR
PRODID:-//eluceo/ical//2.0/EN
VERSION:2.0
CALSCALE:GREGORIAN
BEGIN:VEVENT
UID:8dfc9841f8c05f0b09641a7ad3c2e671
DTSTAMP:20260421T085216Z
SUMMARY:Jewish Family Service Tribute Dinner
DESCRIPTION:United Jewish Federation of Utah\nCalendar\nhttps://shalomutah.
 org/united-jewish-federation-of-utah-calendar/jewish-family-service-tribut
 e-dinner-1453392802\n\nJFS hosts our 9th annual Tribute Dinner\, the agenc
 y&#039\;s biggest fundraising event\, supporting our mission of strengthen
 ing individuals and families of all backgrounds through counseling\, advoc
 acy\, care management and community education.
DTSTART;TZID=America/Denver:20160925T170000
DTEND;TZID=America/Denver:20160925T203000
END:VEVENT
END:VCALENDAR
