BEGIN:VCALENDAR
PRODID:-//eluceo/ical//2.0/EN
VERSION:2.0
CALSCALE:GREGORIAN
BEGIN:VEVENT
UID:a2f90ea5123607aef741fb469e53d3dc
DTSTAMP:20260420T142420Z
SUMMARY:Jewish Heritage Night with the Utah Jazz
DESCRIPTION:United Jewish Federation of Utah\nCalendar\nhttps://shalomutah.
 org/united-jewish-federation-of-utah-calendar/jewish-heritage-night-with-t
 he-utah-jazz-1477674075\n\nTHE PREMIER JEWISH EVENT OF THE YEAR IN THE STA
 TE OF UTAH!\n-Watch the Menorah Lighting at Halftime!\n-Enjoy a Cantorial 
 Rendition of the National Anthem\n-Party in style in the exclusive Chabad 
 Sky Box!\n-Enjoy once-in-a-lifetime opportunities to be part of the Fan Tu
 nnel and Anthem Buddies!\n-Try your hand at a Post-Game On-Court Free Thro
 w!
DTSTART;TZID=America/Denver:20161229T190000
DTEND;TZID=America/Denver:20161229T220000
END:VEVENT
END:VCALENDAR
