BEGIN:VCALENDAR
PRODID:-//eluceo/ical//2.0/EN
VERSION:2.0
CALSCALE:GREGORIAN
BEGIN:VEVENT
UID:ab745dba59c892588ebb935674b4414c
DTSTAMP:20260421T040117Z
SUMMARY:Jewish Pop Art\, An Evening With Yitzchok Moully\, the Pop Art Rabb
 i
DESCRIPTION:United Jewish Federation of Utah\nCalendar\nhttps://shalomutah.
 org/united-jewish-federation-of-utah-calendar/jewish-pop-art-an-evening-wi
 th-yitzchok-moully-the-pop-art-rabbi-1494267406\n\nAn Evening With Yitzcho
 k Moully\, the Pop Art Rabbi\nEnjoy an array of wine and cheese\nMeet the 
 artist\, hear about his journey and view a collection of his work
DTSTART;TZID=America/Denver:20170712T183000
DTEND;TZID=America/Denver:20170712T203000
END:VEVENT
END:VCALENDAR
