BEGIN:VCALENDAR
PRODID:-//eluceo/ical//2.0/EN
VERSION:2.0
CALSCALE:GREGORIAN
BEGIN:VEVENT
UID:e6f7d236e85bd35df70f9921b39c043e
DTSTAMP:20260420T142723Z
SUMMARY:Jewish Teen Pre-Hanukkah Party
DESCRIPTION:United Jewish Federation of Utah\nCalendar\nhttps://shalomutah.
 org/united-jewish-federation-of-utah-calendar/jewish-teen-pre-hanukkah-par
 ty\n\nJoin us Saturday\, December 17th\, 2016 at the Temple Har Shalom soc
 ial hall\, for a Pre-Hanukkah Party!!! It will be a night of Togetherness\
 , Fun\, Food\, and Dancing. We are inviting all Jewish teens in 7th - 12th
  grade to participate. The party will be a platform to connect\, build new
  relationships and to enhance a sense of Community and Jewish identity amo
 ngst teens. A joint Havdalah service will be held at the beginning of the 
 night followed by separate activities for middle schoolers and hig...
DTSTART;TZID=America/Denver:20161217T193000
DTEND;TZID=America/Denver:20161217T213000
END:VEVENT
END:VCALENDAR
