BEGIN:VCALENDAR
PRODID:-//eluceo/ical//2.0/EN
VERSION:2.0
CALSCALE:GREGORIAN
BEGIN:VEVENT
UID:29d0589645de31f0607e999549277ff0
DTSTAMP:20260420T163401Z
SUMMARY:Jews & Brews (Snowbird Oktoberfest)
DESCRIPTION:United Jewish Federation of Utah\nCalendar\nhttps://shalomutah.
 org/united-jewish-federation-of-utah-calendar/jews--brews-snowbird-oktober
 fest-1555627047\n\nJoin us for a special experience at Snowbird Oktoberfes
 t curated by Kol Ami’s most beloved home brewers. Together we’ll learn
  the ins and outs of beer tasting\, beer drinking and beer brewing. Kosher
  German cuisine included. Prost (cheers!) to a fun afternoon!
DTSTART;TZID=America/Denver:20190901T114500
DTEND;TZID=America/Denver:20190901T150000
END:VEVENT
END:VCALENDAR
