BEGIN:VCALENDAR
PRODID:-//eluceo/ical//2.0/EN
VERSION:2.0
CALSCALE:GREGORIAN
BEGIN:VEVENT
UID:19eab09a68577975483bcb139b6657e5
DTSTAMP:20260421T125359Z
SUMMARY:A History of Jews in Magic
DESCRIPTION:United Jewish Federation of Utah\nCalendar\nhttps://shalomutah.
 org/united-jewish-federation-of-utah-calendar/jews-in-magic\n\nDiscover fa
 scinating stories about Jews in Magic from a 1933 book almost lost to hist
 ory! Richard Hatch\, a local Utah magician\, will not only entertain with 
 his magic\, but offer a presentation into the history of Jewish magicians 
 from the early 1900’s and beyond. Read the New York Times article here.\
 n\nAbout Richard Hatch:\n\nAlthough Richard Hatch holds two graduate degre
 es in Physics from Yale University\, he is a lifelong professional "decept
 ionist.” He honed his craft at Houston's Ma...
DTSTART;TZID=America/Denver:20240918T180000
DTEND;TZID=America/Denver:20240918T200000
END:VEVENT
END:VCALENDAR
