BEGIN:VCALENDAR
PRODID:-//eluceo/ical//2.0/EN
VERSION:2.0
CALSCALE:GREGORIAN
BEGIN:VEVENT
UID:956566eefb5fcc9077a537b7dc69313a
DTSTAMP:20260420T124214Z
SUMMARY:JFS Donor Volunteer Thank You Event
DESCRIPTION:United Jewish Federation of Utah\nCalendar\nhttps://shalomutah.
 org/united-jewish-federation-of-utah-calendar/jfs-donor-volunteer-thank-yo
 u-event-1481134454\n\nJewish Family Service Annual Donor Thank You and Vol
 unteer Event.
DTSTART;TZID=America/Denver:20170430T170000
DTEND;TZID=America/Denver:20170430T210000
END:VEVENT
END:VCALENDAR
