BEGIN:VCALENDAR
PRODID:-//eluceo/ical//2.0/EN
VERSION:2.0
CALSCALE:GREGORIAN
BEGIN:VEVENT
UID:4ce6bb998fdc0259e1d0b5596e8563b2
DTSTAMP:20260422T004015Z
SUMMARY:JSU & Jr NCSY Ski & Snowboarding Jewlympics
DESCRIPTION:United Jewish Federation of Utah\nCalendar\nhttps://shalomutah.
 org/united-jewish-federation-of-utah-calendar/jsu--jr-ncsy-ski--snowboardi
 ng-jewlympics-1614885009\n\nJoin Jewish middle and high schoolers for craz
 y Ski and Snowboarding contests at Canyons Village for an afternoon of fun
 !
DTSTART;TZID=America/Denver:20210314T123000
DTEND;TZID=America/Denver:20210314T160000
END:VEVENT
END:VCALENDAR
