BEGIN:VCALENDAR
PRODID:-//eluceo/ical//2.0/EN
VERSION:2.0
CALSCALE:GREGORIAN
BEGIN:VEVENT
UID:4c52c1e28be76e5218b02ea20f9b9596
DTSTAMP:20260420T142203Z
SUMMARY:KAJY & Friends Kickoff
DESCRIPTION:United Jewish Federation of Utah\nCalendar\nhttps://shalomutah.
 org/united-jewish-federation-of-utah-calendar/kajy--friends-kickoff-155562
 5156\n\nWelcome back to another fun year of KAJY (Kol Ami Jewish Youth) ex
 periences! KAJY provides our community with fun\, safe spaces to grow\, sh
 are and spend time together with friends. Snacks included.
DTSTART;TZID=America/Denver:20190825T150000
DTEND;TZID=America/Denver:20190825T170000
END:VEVENT
END:VCALENDAR
