BEGIN:VCALENDAR
PRODID:-//eluceo/ical//2.0/EN
VERSION:2.0
CALSCALE:GREGORIAN
BEGIN:VEVENT
UID:cad04c0d45a0899075091b5041655bf7
DTSTAMP:20260422T175335Z
SUMMARY:KAJY Chocolate Seder
DESCRIPTION:United Jewish Federation of Utah\nCalendar\nhttps://shalomutah.
 org/united-jewish-federation-of-utah-calendar/kajy-chocolate-seder-1521507
 257\n\nAnnual KAJY Chocolate Seder led by Kol Ami Youth Director Chad Scha
 effer\n\nEveryone is invited!\n
DTSTART;TZID=America/Denver:20180328T161500
DTEND;TZID=America/Denver:20180328T181500
END:VEVENT
END:VCALENDAR
