BEGIN:VCALENDAR
PRODID:-//eluceo/ical//2.0/EN
VERSION:2.0
CALSCALE:GREGORIAN
BEGIN:VEVENT
UID:0e5b30f7089c4d4afb91e91246407ccb
DTSTAMP:20260420T010532Z
SUMMARY:Kill for Peace: Protest & Resistance in Jewish Rock
DESCRIPTION:United Jewish Federation of Utah\nCalendar\nhttps://shalomutah.
 org/united-jewish-federation-of-utah-calendar/kill-for-peace-protest--resi
 stance-in-jewish-rock-1495637607\n\nA brand new session of the Jews Who Ro
 ck class begun last summer by Rabbi Levinsky
DTSTART;TZID=America/Denver:20170810T190000
DTEND;TZID=America/Denver:20170810T210000
END:VEVENT
END:VCALENDAR
