BEGIN:VCALENDAR
PRODID:-//eluceo/ical//2.0/EN
VERSION:2.0
CALSCALE:GREGORIAN
BEGIN:VEVENT
UID:e78b12d54cf1e0b813a3cb27eecffb30
DTSTAMP:20260420T233033Z
SUMMARY:Kol Ami Angels Thank You Dinner
DESCRIPTION:United Jewish Federation of Utah\nCalendar\nhttps://shalomutah.
 org/united-jewish-federation-of-utah-calendar/kol-ami-angels-thank-you-din
 ner\n\nKol Ami Angels Dinner
DTSTART;TZID=America/Denver:20130922T180000
DTEND;TZID=America/Denver:20130922T210000
END:VEVENT
END:VCALENDAR
