BEGIN:VCALENDAR
PRODID:-//eluceo/ical//2.0/EN
VERSION:2.0
CALSCALE:GREGORIAN
BEGIN:VEVENT
UID:16113c4a3af7608d1044ab34562d3d8e
DTSTAMP:20260422T140655Z
SUMMARY:Kol Ami Camping Trip
DESCRIPTION:United Jewish Federation of Utah\nCalendar\nhttps://shalomutah.
 org/united-jewish-federation-of-utah-calendar/kol-ami-camping-trip\n\nJoin
  Congregation Kol Ami for their annual community camping trip!\n\nEveryone
  welcome no matter what your skill level on hiking or camping.\n\nContact 
 Greg Saunders for more info\n\njgregsaunders@gmail.com
DTSTART;TZID=America/Denver:20180824T180000
DTEND;TZID=America/Denver:20180826T140000
END:VEVENT
END:VCALENDAR
