BEGIN:VCALENDAR
PRODID:-//eluceo/ical//2.0/EN
VERSION:2.0
CALSCALE:GREGORIAN
BEGIN:VEVENT
UID:21d8f73f74ebd46f2d4e744464e6eea3
DTSTAMP:20260422T072236Z
SUMMARY:Kol Ami's Cantor Installation Gala
DESCRIPTION:United Jewish Federation of Utah\nCalendar\nhttps://shalomutah.
 org/united-jewish-federation-of-utah-calendar/kol-amis-cantor-installation
 -gala-1721846597\n\nMore information to come!
DTSTART;TZID=America/Denver:20250504T170000
DTEND;TZID=America/Denver:20250504T200000
END:VEVENT
END:VCALENDAR
