BEGIN:VCALENDAR
PRODID:-//eluceo/ical//2.0/EN
VERSION:2.0
CALSCALE:GREGORIAN
BEGIN:VEVENT
UID:1bc606a8a9fd597538984bac26e4811a
DTSTAMP:20260421T183255Z
SUMMARY:Kol Ami's Dinner at the Shul
DESCRIPTION:United Jewish Federation of Utah\nCalendar\nhttps://shalomutah.
 org/united-jewish-federation-of-utah-calendar/kol-amis-dinner-at-the-shul-
 1741890184\n\nStep away from the busy workweek\, greet Shabbat\, and enjoy
  a meal with friends and family following our Erev Shabbat service at 6:30
 pm.• • •Please RSVP by noon on Thursday\, March 20th at conkolami.o
 rg/dinner-at-the-shul Kol Ami Members: $12 per adult\, $7 per child ages 3
 –12\, OR $35 per family of 4+ Guests: $17 per adult\, $10 per child ages
  3–12\, OR $50 per family of 4+
DTSTART;TZID=America/Denver:20250321T183000
DTEND;TZID=America/Denver:20250321T203000
END:VEVENT
END:VCALENDAR
