BEGIN:VCALENDAR
PRODID:-//eluceo/ical//2.0/EN
VERSION:2.0
CALSCALE:GREGORIAN
BEGIN:VEVENT
UID:2ed85185da70d4b4cb86c317423171fa
DTSTAMP:20260420T190728Z
SUMMARY:Kol Nidre
DESCRIPTION:United Jewish Federation of Utah\nCalendar\nhttps://shalomutah.
 org/united-jewish-federation-of-utah-calendar/kol-nidre-1536088928\n\nJoin
  us for Congregation Brith Sholem's Kol Nidre services led by Student Rabb
 i Sam Stern!
DTSTART;TZID=America/Denver:20180918T193000
DTEND;TZID=America/Denver:20180918T203000
END:VEVENT
END:VCALENDAR
