BEGIN:VCALENDAR
PRODID:-//eluceo/ical//2.0/EN
VERSION:2.0
CALSCALE:GREGORIAN
BEGIN:VEVENT
UID:1ab4fa3281bec7e197c678b1b77a5b65
DTSTAMP:20260422T122803Z
SUMMARY:Ladies Lunch & Learn
DESCRIPTION:United Jewish Federation of Utah\nCalendar\nhttps://shalomutah.
 org/united-jewish-federation-of-utah-calendar/ladies-lunch-learn\n\nPlease
  join us for Lunch and Learn on Thursday\, July 19\, 2018\, 12:00pm-2:
 00pm\, at the home of Linda Brownstein\,\n\n \n\nDiscussion Leader:   
 Professor Jackie Osherow\, Distinguished Professor of English at the Univ
 ersity of Utah.\n\nTopic: Jackie’s poetry based on the biblical book of
  Psalms. We will continue with Jackie reading her poems inspired by the bi
 blical book of Psalms.\n\nFood:   Please RSVP and sign up for food:  
 We will need appetizer (2)\, bread (1)\, salads (2)\, si...
DTSTART;TZID=America/Denver:20180719T120000
DTEND;TZID=America/Denver:20180719T140000
END:VEVENT
END:VCALENDAR
