BEGIN:VCALENDAR
PRODID:-//eluceo/ical//2.0/EN
VERSION:2.0
CALSCALE:GREGORIAN
BEGIN:VEVENT
UID:e10e5e03467d0b4bc3e29a0e3761343f
DTSTAMP:20260421T040044Z
SUMMARY:Lag Ba'omer BBQ
DESCRIPTION:United Jewish Federation of Utah\nCalendar\nhttps://shalomutah.
 org/united-jewish-federation-of-utah-calendar/lag-baomer-bbq-1486500060\n\
 nAll are welcome to our Lag Ba'Omer BBQ\, complete with games\, food\, and
  roasted potatoes! We are also celebrating the end of another great school
 -year and accepting registrations for next year. This is the last day for 
 Early Bird pricing.
DTSTART;TZID=America/Denver:20170514T110000
DTEND;TZID=America/Denver:20170514T130000
END:VEVENT
END:VCALENDAR
