BEGIN:VCALENDAR
PRODID:-//eluceo/ical//2.0/EN
VERSION:2.0
CALSCALE:GREGORIAN
BEGIN:VEVENT
UID:70b5e12de82251d62bb13053204b9151
DTSTAMP:20260420T001854Z
SUMMARY:Latke Making Class at Kol Ami
DESCRIPTION:United Jewish Federation of Utah\nCalendar\nhttps://shalomutah.
 org/united-jewish-federation-of-utah-calendar/latke-making-class-at-kol-am
 i-1764110732\n\nCome learn how to make classic Chanukah latkes! Join us as
  we fry together for Kol Ami upcoming Chanukah events—and take home a pl
 ateful of delicious latkes for yourself. Ages 13+ only. Space is limited!
 • • •Register by Sunday\, December 7th at conkolami.org/latke-making
  Kol Ami Members: FREE • Guests: $5 per person
DTSTART;TZID=America/Denver:20251208T180000
DTEND;TZID=America/Denver:20251208T200000
END:VEVENT
END:VCALENDAR
