BEGIN:VCALENDAR
PRODID:-//eluceo/ical//2.0/EN
VERSION:2.0
CALSCALE:GREGORIAN
BEGIN:VEVENT
UID:314a5257c7135e669dba9002137b9fc3
DTSTAMP:20260421T194352Z
SUMMARY:Lights & Strikes!
DESCRIPTION:United Jewish Federation of Utah\nCalendar\nhttps://shalomutah.
 org/united-jewish-federation-of-utah-calendar/lights-strikes\n\nCelebrate 
 the Festival of Lights with the Chabad Young SLC community!\n\n-Bowling\, 
 Glow Golf and Arcades!\n\n-Latkes\, Jelly Donuts\, Gelt and other Chanukah
  goodies!\n\n-Drinks and Lchaims!\n\n-"Spread the Light" Kindling of the M
 enorah!\n\nFor Jewish men and women\, ages 21-35!\nThursday\, December 14\
 , 2017 - Fourth Night of Chanukah\n8:00 PM \nTickets at chanukahslc.event
 brite.com\n\n\nWhere:\n\nFat Cats SLC\n3739 South 900 East Salt Lake City
 \, UT 84106\n\n \n\n\n 
DTSTART;TZID=America/Denver:20171214T200000
DTEND;TZID=America/Denver:20171214T230000
END:VEVENT
END:VCALENDAR
