BEGIN:VCALENDAR
PRODID:-//eluceo/ical//2.0/EN
VERSION:2.0
CALSCALE:GREGORIAN
BEGIN:VEVENT
UID:b7b0f7e2092457c22ff4a4660fdf884b
DTSTAMP:20260421T022203Z
SUMMARY:Live Virtual Chanukah Concert
DESCRIPTION:United Jewish Federation of Utah\nCalendar\nhttps://shalomutah.
 org/united-jewish-federation-of-utah-calendar/live-virtual-chanukah-concer
 t-1607550628\n\nNISSIM BLACK\n\nListen to the story and music of a one-of-
 a-kind African-American Hasidic American-Israeli rapper.\n\nFor details an
 d to register: jewishsu.com/nissim
DTSTART;TZID=America/Denver:20201216T180000
DTEND;TZID=America/Denver:20201216T190000
END:VEVENT
END:VCALENDAR
