BEGIN:VCALENDAR
PRODID:-//eluceo/ical//2.0/EN
VERSION:2.0
CALSCALE:GREGORIAN
BEGIN:VEVENT
UID:a5b68deab2c49ab044744ecbdf9fd4d6
DTSTAMP:20260420T230623Z
SUMMARY:Livestreaming Family Shabbat Services
DESCRIPTION:United Jewish Federation of Utah\nCalendar\nhttps://shalomutah.
 org/united-jewish-federation-of-utah-calendar/livestreaming-family-shabbat
 -services-1586897296\n\nJoin Rabbi Sam and Cantor Wendy from Congregation 
 Kol Ami for a half hour service of Shabbat songs and stories with Shabbata
 saurus Rex
DTSTART;TZID=America/Denver:20200417T173000
DTEND;TZID=America/Denver:20200417T180000
END:VEVENT
END:VCALENDAR
