BEGIN:VCALENDAR
PRODID:-//eluceo/ical//2.0/EN
VERSION:2.0
CALSCALE:GREGORIAN
BEGIN:VEVENT
UID:eda10516031fc0b03500dc4759b63fd1
DTSTAMP:20260422T035233Z
SUMMARY:Lunch & Learn CKA
DESCRIPTION:United Jewish Federation of Utah\nCalendar\nhttps://shalomutah.
 org/united-jewish-federation-of-utah-calendar/lunch--learn-1730390314\n\nL
 unch & Learn at Congregation Kol Ami\nGuest speaker TBA\n$10.00 for member
 s $15.00 guests
DTSTART;TZID=America/Denver:20241227T121500
DTEND;TZID=America/Denver:20241227T140000
END:VEVENT
END:VCALENDAR
