BEGIN:VCALENDAR
PRODID:-//eluceo/ical//2.0/EN
VERSION:2.0
CALSCALE:GREGORIAN
BEGIN:VEVENT
UID:4cb347be7cb7c527510c0866e08e3649
DTSTAMP:20260420T225417Z
SUMMARY:Lunch & Learn with Rabbi Ilana
DESCRIPTION:United Jewish Federation of Utah\nCalendar\nhttps://shalomutah.
 org/united-jewish-federation-of-utah-calendar/lunch--learn-with-rabbi-ilan
 a-1468273126\n\nThis group of mostly Seniors joins to chat\, chew\, and le
 arn about a different topic each month at the Wellington (4522 South 1300 
 East\, Salt Lake City). The cost is $5 for a non-resident. For more inform
 ation call Betty 801-278-5509.
DTSTART;TZID=America/Denver:20160720T111500
DTEND;TZID=America/Denver:20160720T123000
END:VEVENT
END:VCALENDAR
