BEGIN:VCALENDAR
PRODID:-//eluceo/ical//2.0/EN
VERSION:2.0
CALSCALE:GREGORIAN
BEGIN:VEVENT
UID:2d665ab0dd294e4d09ae3b8b327b0bc0
DTSTAMP:20260421T181000Z
SUMMARY:Lunch and Learn
DESCRIPTION:United Jewish Federation of Utah\nCalendar\nhttps://shalomutah.
 org/united-jewish-federation-of-utah-calendar/lunch-and-learn-1465510324\n
 \nPlease join us for Lunch and Learn on Wednesday\, June 29\, 2016\, 12:00
 pm-2:00pm\, at the home of Linda Brownstein\,  Park City. \nDiscussion Lea
 der:  Professor Jackie Osherow\, distinguished Professor of English at the
  University of Utah\nReading Prep: Please read II Samuel\, chapters 10:6 &
 ndash\; 12 as we progress to tackle King David. \nRSVP:  doren@shalomutah.
 org  or call Drora at 801-581-0102\nFood:   Please RSVP and sign up for fo
 od:  We will need appetizer (2)\, bread (1)\, salads (3)\, side dish...
DTSTART;TZID=America/Denver:20160629T120000
DTEND;TZID=America/Denver:20160629T140000
END:VEVENT
END:VCALENDAR
