BEGIN:VCALENDAR
PRODID:-//eluceo/ical//2.0/EN
VERSION:2.0
CALSCALE:GREGORIAN
BEGIN:VEVENT
UID:48e73180987a47f19684a76c301afabd
DTSTAMP:20260420T132439Z
SUMMARY:Lunch and Learn April 2017
DESCRIPTION:United Jewish Federation of Utah\nCalendar\nhttps://shalomutah.
 org/united-jewish-federation-of-utah-calendar/lunch-and-learn-april-2017\n
 \nPlease join us for Lunch and Learn on Wednesday\, April 5\, 2017\, 12:
 00pm-2:00pm\, at the home of Susie Ortner\, Park City.\n\nDiscussion Leade
 r:   Michael Greenfield\, Education Director\, Temple Har Shalom\n\nTOPIC
 : Honor thy Mother: Is that too much to ask?\n\nRSVP:  doren@shalomutah.o
 rg  or call Drora at 801-581-0102\n\n \n\nFood:   Please RSVP and sign 
 up for food:  We will need appetizer (2)\, salads (1)\, side dish (2)\, m
 ain dish Protein type (2)\, and dessert (1).\n\nWe would like to t...
DTSTART;TZID=America/Denver:20170405T120000
DTEND;TZID=America/Denver:20170405T140000
END:VEVENT
END:VCALENDAR
