BEGIN:VCALENDAR
PRODID:-//eluceo/ical//2.0/EN
VERSION:2.0
CALSCALE:GREGORIAN
BEGIN:VEVENT
UID:df800c20f0f859f0c2472392247f120a
DTSTAMP:20260423T062353Z
SUMMARY:Lunch and Learn December 2017
DESCRIPTION:United Jewish Federation of Utah\nCalendar\nhttps://shalomutah.
 org/united-jewish-federation-of-utah-calendar/lunch-and-learn-december-201
 7-1512087843\n\nPlease join us for Lunch and Learn on Wednesday\, December
  6\, 2017\, 12:00pm-2:00pm\, at the home of Eve Stanger\, 9014 Flint Way\,
  Park City 84098 (Jeremy Ranch).\nDiscussion Leader: Professor Jackie Oshe
 row\, distinguished Professor of English at the University of Utah.\nTopic
 : Torah Study - We will compare Biblical creation stories. Please read Gen
 esis\, chapters 2-3\, Job\, chapters 38 – 41\, Psalms chapter 8\, verse 
 104\, & Isaiah 40. Please bring your Tanach Book\, but we will also have b
 ooks avai...
DTSTART;TZID=America/Denver:20171206T120000
DTEND;TZID=America/Denver:20171206T140000
END:VEVENT
END:VCALENDAR
