BEGIN:VCALENDAR
PRODID:-//eluceo/ical//2.0/EN
VERSION:2.0
CALSCALE:GREGORIAN
BEGIN:VEVENT
UID:d4605b7db210f0b331941f7118efdb22
DTSTAMP:20260421T125351Z
SUMMARY:Lunch and Learn June 7
DESCRIPTION:United Jewish Federation of Utah\nCalendar\nhttps://shalomutah.
 org/united-jewish-federation-of-utah-calendar/lunch-and-learn-june-7\n\nPl
 ease join us for Lunch and Learn on Wednesday\, June 7\, 2017\, 12:00pm-
 2:00pm\, at the home of Jo-Ann Goldman\, Park City\, UT 84098 (Jeremy Ranc
 h).  \n\n \n\nDiscussion Leader:   Devora Steiger\n\nTOPIC: The Mikvah
 - Spa for the soul\n\n \n\nWe will learn about this special Mitzvah\, and
  explore the what\, The Who\, the when\, how and why of Mikva.\n\nRSVP:  
 doren@shalomutah.org \n\n Food:   Please RSVP and sign up for food:  W
 e will need appetizer (2)\, bread (1)\, salads (3)\, side dish (...
DTSTART;TZID=America/Denver:20170607T120000
DTEND;TZID=America/Denver:20170607T140000
END:VEVENT
END:VCALENDAR
