BEGIN:VCALENDAR
PRODID:-//eluceo/ical//2.0/EN
VERSION:2.0
CALSCALE:GREGORIAN
BEGIN:VEVENT
UID:49a485476c87f7db7e4d2eb8c17fda72
DTSTAMP:20260422T015848Z
SUMMARY:Lunch and Learn October 2016
DESCRIPTION:United Jewish Federation of Utah\nCalendar\nhttps://shalomutah.
 org/united-jewish-federation-of-utah-calendar/lunch-and-learn-october-2016
 \n\nGuest Presenter: Eileen Hallet Stone. Learn about the history of the J
 ews in Utah\, amazing women\, and what can we learn from history about min
 dfullness and empathy.
DTSTART;TZID=America/Denver:20161019T120000
DTEND;TZID=America/Denver:20161019T140000
END:VEVENT
END:VCALENDAR
