BEGIN:VCALENDAR
PRODID:-//eluceo/ical//2.0/EN
VERSION:2.0
CALSCALE:GREGORIAN
BEGIN:VEVENT
UID:40d1edcb5023d7e087333412631cf425
DTSTAMP:20260423T045142Z
SUMMARY:Lunch and Learn October 4
DESCRIPTION:United Jewish Federation of Utah\nCalendar\nhttps://shalomutah.
 org/united-jewish-federation-of-utah-calendar/lunch-and-learn-october-4\n\
 n Please join us for Lunch and Learn on Wednesday\, October 4\, 2017\, 
 12:00pm -2:00pm\, at the Sukkah at Temple Har Shalom.\n\nDiscussion Leader
 :   Professor Jackie Osherow\, distinguished Professor of English at the 
 University of Utah.\n\nTopic: Torah Study - we will begin with Genesis Cha
 pter 1. Please bring your Torah Book and read Genesis chapters 1-4 (we wil
 l also have books available in class) .\n\nFood:   Please RSVP and sign u
 p for food:  We will need appetizer (2)\, bread (1)\, salads...
DTSTART;TZID=America/Denver:20171004T120000
DTEND;TZID=America/Denver:20171004T140000
END:VEVENT
END:VCALENDAR
