BEGIN:VCALENDAR
PRODID:-//eluceo/ical//2.0/EN
VERSION:2.0
CALSCALE:GREGORIAN
BEGIN:VEVENT
UID:7e6638743cf5cbbbdd228a61c671f88c
DTSTAMP:20260421T132404Z
SUMMARY:Lunch and Learn September 2017
DESCRIPTION:United Jewish Federation of Utah\nCalendar\nhttps://shalomutah.
 org/united-jewish-federation-of-utah-calendar/lunch-and-learn-september-20
 17\n\nPlease join us for Lunch and Learn on Wednesday\, September 6\, 201
 7\, 12:00pm-2:00pm\, at the home of Sheri Jaffa\, Park City.\n\nDiscussio
 n Leader:   Professor Jackie Osherow\, distinguished Professor of English
  at the University of Utah.\n\nTopic: Torah Study - we will begin with Gen
 esis Chapter 1. Please bring your Torah Book and read Genesis chapters 1-4
  (we will also have books available in class) .\n\nFood:   Please RSVP an
 d sign up for food:  We will need appetizer (2)\, bread (1)\, sala...
DTSTART;TZID=America/Denver:20170906T120000
DTEND;TZID=America/Denver:20170906T140000
END:VEVENT
END:VCALENDAR
