BEGIN:VCALENDAR
PRODID:-//eluceo/ical//2.0/EN
VERSION:2.0
CALSCALE:GREGORIAN
BEGIN:VEVENT
UID:4160a869dbd8e0beda81ec753c65e1c1
DTSTAMP:20260420T182347Z
SUMMARY:Lunch & Learn
DESCRIPTION:United Jewish Federation of Utah\nCalendar\nhttps://shalomutah.
 org/united-jewish-federation-of-utah-calendar/lunch-learn-april-2023\n\nJo
 in us for Women's Lunch & Learn with guest speaker\, Sue Niblock.\n\nTopic
 : Service Around the World\n\nRetired senior U.S. Diplomat with the Depart
 ment of State\, rank of Minister-Counselor. Over three decades of experien
 ce helping to devise and execute U.S. foreign policy in Africa\, Asia\, Eu
 rope\, and the Middle East.\n\nPrior to retirement\, last assignment was a
 s deputy Ambassador in New Zealand. Other overseas postings include Jordan
 \, Singapore\, Belgium\, Ethiopia\, USSR/Russia\, Indonesia\, a...
DTSTART;TZID=America/Denver:20230427T130000
DTEND;TZID=America/Denver:20230427T150000
END:VEVENT
END:VCALENDAR
