BEGIN:VCALENDAR
PRODID:-//eluceo/ical//2.0/EN
VERSION:2.0
CALSCALE:GREGORIAN
BEGIN:VEVENT
UID:b0ec1437eb23942760e03a1ccf3b6acc
DTSTAMP:20260423T113142Z
SUMMARY:Women's Lunch & Learn
DESCRIPTION:United Jewish Federation of Utah\nCalendar\nhttps://shalomutah.
 org/united-jewish-federation-of-utah-calendar/lunch-learn-july-2022\n\nA T
 aste of Israel: \n\nGuest Presenter: Inbal Baum\, founder of Delicious Isr
 ael \n\nTopic: Inbal's company\, Delicious Israel\, specializes in persona
 lized walking\, travel\, and cooking tours that introduce traveling foodie
 s and culture-seekers to authentic Israeli lifestyle. \n\nInbal with give
  us a demonstration in the creation of an Israeli light summer dessert\, f
 ollowed by lunch and discussion about other mysteries of Israeli cuisine. 
 Finally\, we'll enjoy the dessert after it cools.\n\nHost...
DTSTART;TZID=America/Denver:20220727T120000
DTEND;TZID=America/Denver:20220727T140000
END:VEVENT
END:VCALENDAR
