BEGIN:VCALENDAR
PRODID:-//eluceo/ical//2.0/EN
VERSION:2.0
CALSCALE:GREGORIAN
BEGIN:VEVENT
UID:fa279928e9aab1fc8200c7a1240da278
DTSTAMP:20260423T112950Z
SUMMARY:Lunch & Learn: Important Lifestyle Habits
DESCRIPTION:United Jewish Federation of Utah\nCalendar\nhttps://shalomutah.
 org/united-jewish-federation-of-utah-calendar/lunch-learn-june-2023\n\nThe
  5 Most Important Lifestyle Habits for Healthy Aging\n\nJoin us for the ne
 xt Women's Lunch & Learn with guest speaker Sherri Fogelman. Sherri helps 
 women in midlife get relief from joint pain and inflammation using food an
 d lifestyle as medicine. A life-long student of nutrition\, wellness\, and
  longevity\, Sherri suffered for years with the debilitating symptoms of P
 soriatic Arthritis\, before healing herself without the use of medications
 . After studying at the Institute for Integrative Nutr...
DTSTART;TZID=America/Denver:20230601T130000
DTEND;TZID=America/Denver:20230601T150000
END:VEVENT
END:VCALENDAR
