BEGIN:VCALENDAR
PRODID:-//eluceo/ical//2.0/EN
VERSION:2.0
CALSCALE:GREGORIAN
BEGIN:VEVENT
UID:082c0e0e98e992319db3992e36abda15
DTSTAMP:20260423T024259Z
SUMMARY:Lunch & Learn September 2016
DESCRIPTION:United Jewish Federation of Utah\nCalendar\nhttps://shalomutah.
 org/united-jewish-federation-of-utah-calendar/lunch-learn-september-2016\n
 \nPlease join us for Lunch and Learn on Wednesday\, August 3\, 2016\, 12
 :00pm-2:00pm\, at the home of Jody Gross\, Park City. \n\nDiscussion Lead
 er:  Professor Jackie Osherow\, distinguished Professor of English at the
  University of Utah. As Jackie is leaving on Sabbatical this will be our l
 ast session with her before she leaves to Europe.\n\nReading Prep: Please 
 read II Samuel\, chapters 13– 15 as we progress to tackle King David. \
 n\nRSVP:  doren@shalomutah.org  or call Drora at 801-581-010...
DTSTART;TZID=America/Denver:20160907T120000
DTEND;TZID=America/Denver:20160907T140000
END:VEVENT
END:VCALENDAR
