BEGIN:VCALENDAR
PRODID:-//eluceo/ical//2.0/EN
VERSION:2.0
CALSCALE:GREGORIAN
BEGIN:VEVENT
UID:267e898181d404e6db4abda9c053bbd6
DTSTAMP:20260421T090848Z
SUMMARY:Martin Luther King Shabbat at Temple Har Shalom
DESCRIPTION:United Jewish Federation of Utah\nCalendar\nhttps://shalomutah.
 org/united-jewish-federation-of-utah-calendar/martin-luther-king-shabbat-a
 t-temple-har-shalom-1539202432\n\nCome join us for Martin Luther King Shab
 bat featuring the Unity Gospel Choir.
DTSTART;TZID=America/Denver:20190118T183000
DTEND;TZID=America/Denver:20190118T194500
END:VEVENT
END:VCALENDAR
