BEGIN:VCALENDAR
PRODID:-//eluceo/ical//2.0/EN
VERSION:2.0
CALSCALE:GREGORIAN
BEGIN:VEVENT
UID:c689f28547cc689a632e31dd1a450dae
DTSTAMP:20260421T213618Z
SUMMARY:May Men's Night Out
DESCRIPTION:United Jewish Federation of Utah\nCalendar\nhttps://shalomutah.
 org/united-jewish-federation-of-utah-calendar/may-mens-night-out\n\nMay's 
 Men's Night Out: America's Favorite Pastime\n\nThursday\, May 8th @ 6 PM\n
 \nLocation Park City\, Utah. Address given after RSVP.\n\nDinner provided 
 - $20 at the door\n\nGuest Speaker: Tommy Tanzer\n\nTopic: Baseball\, Base
 ball\, Baseball!\n\nLong time Park City resident and former Major League B
 aseball agent\, Tommy Tanzer will share him stories and perspective on our
  national pastime. This annual Men's Night has made for fascinating conver
 sations over the years\, and we look forward to anoth...
DTSTART;TZID=America/Denver:20250508T180000
DTEND;TZID=America/Denver:20250508T200000
END:VEVENT
END:VCALENDAR
