BEGIN:VCALENDAR
PRODID:-//eluceo/ical//2.0/EN
VERSION:2.0
CALSCALE:GREGORIAN
BEGIN:VEVENT
UID:b5393c9ffbf45282626149bcb78cd7c3
DTSTAMP:20260422T125530Z
SUMMARY:Megillas & Margaritas
DESCRIPTION:United Jewish Federation of Utah\nCalendar\nhttps://shalomutah.
 org/united-jewish-federation-of-utah-calendar/megillas--margaritas-1486063
 242\n\nIt's the annual Purim Bash and Masquerade for the Chabad Young Salt
  Lake City community!\n-Mingle and munch on a delectable Kosher menu!\n-Fu
 ll Service Bar!\n-The biggest social event of the year for Jewish singles 
 and young couples!\n\nFor Jewish Men and Women\, ages 21-35\n$20 per perso
 n\, $36 per couple\, $50 sponsor\nTicket includes entry and one drink tick
 et\, come in costume to get another drink ticket!
DTSTART;TZID=America/Denver:20170311T210000
DTEND;TZID=America/Denver:20170311T235500
END:VEVENT
END:VCALENDAR
