BEGIN:VCALENDAR
PRODID:-//eluceo/ical//2.0/EN
VERSION:2.0
CALSCALE:GREGORIAN
BEGIN:VEVENT
UID:2d6abb5c12c1c7004e1e19ec92184ddd
DTSTAMP:20260421T213053Z
SUMMARY:Menora making workshop at Home Depot
DESCRIPTION:United Jewish Federation of Utah\nCalendar\nhttps://shalomutah.
 org/united-jewish-federation-of-utah-calendar/menora-making-workshop-at-ho
 me-depot\n\nGet crafty in preparation for Chanukah!\nJoin Chabad of Utah a
 nd the Home Depot for this fun for the whole family afternoon!\nBuild your
  own Menorah! Get your own Home Depot craft apron!\nMusic and refreshments
 !\n\nNo charge\, but RSVP required!\nRSVP at jewishutah.com/homedepot
DTSTART;TZID=America/Denver:20171210T150000
DTEND;TZID=America/Denver:20171210T170000
END:VEVENT
END:VCALENDAR
