BEGIN:VCALENDAR
PRODID:-//eluceo/ical//2.0/EN
VERSION:2.0
CALSCALE:GREGORIAN
BEGIN:VEVENT
UID:ee99908458f4614dff8f14f6cb0503ba
DTSTAMP:20260420T010601Z
SUMMARY:Menorah Car Parade
DESCRIPTION:United Jewish Federation of Utah\nCalendar\nhttps://shalomutah.
 org/united-jewish-federation-of-utah-calendar/menorah-car-parade-160618009
 6\n\nWe'll be parading from The Chabad Community Center at 1760 South 1100
  East\, down to the Abravanel Hall Plaza Menorah at 123 S. West Temple. Th
 e Parade Route will take us down 1700 South to West Temple\, under full po
 lice escort\, with a number of special vehicles joining along for the ride
 !\n\n-We'll be creating a limited amount of Car-Top Menorahs\, that will h
 ave 4 candles burning for the 4th night of Chanukah. They will be availabl
 e for rent or for purchase (with the option to get more candle...
DTSTART;TZID=America/Denver:20201213T164500
DTEND;TZID=America/Denver:20201213T174500
END:VEVENT
END:VCALENDAR
