BEGIN:VCALENDAR
PRODID:-//eluceo/ical//2.0/EN
VERSION:2.0
CALSCALE:GREGORIAN
BEGIN:VEVENT
UID:67b2d119b221f84461a08ae357d3addd
DTSTAMP:20260420T054820Z
SUMMARY:Menorah Workshop at the Home Depot
DESCRIPTION:United Jewish Federation of Utah\nCalendar\nhttps://shalomutah.
 org/united-jewish-federation-of-utah-calendar/menorah-workshop-at-the-home
 -depot-1480617201\n\nGet crafty in preparation for Chanukah! Join Chabad o
 f Utah and the Home Depot for this fun for the whole family afternoon! Bui
 ld your own Menorah! Get your own Home Depot craft apron! Music and refres
 hments!No charge\, but RSVP required! RSVP at jewishutah.com/homedepotIn p
 articipation with Chabad of Park City and Congregation Kol Ami
DTSTART;TZID=America/Denver:20161218T150000
DTEND;TZID=America/Denver:20161218T170000
END:VEVENT
END:VCALENDAR
