BEGIN:VCALENDAR
PRODID:-//eluceo/ical//2.0/EN
VERSION:2.0
CALSCALE:GREGORIAN
BEGIN:VEVENT
UID:331930389c30232029f335d60fc2740f
DTSTAMP:20260421T104928Z
SUMMARY:Men's Club
DESCRIPTION:United Jewish Federation of Utah\nCalendar\nhttps://shalomutah.
 org/united-jewish-federation-of-utah-calendar/mens-club\n\nUJF of UT Men's
  Club
DTSTART;TZID=America/Denver:20130321T180000
DTEND;TZID=America/Denver:20130321T200000
END:VEVENT
END:VCALENDAR
