BEGIN:VCALENDAR
PRODID:-//eluceo/ical//2.0/EN
VERSION:2.0
CALSCALE:GREGORIAN
BEGIN:VEVENT
UID:0a7955a710340a81232bdbb4af8ad0ab
DTSTAMP:20260421T194412Z
SUMMARY:Men's Group Dinner
DESCRIPTION:United Jewish Federation of Utah\nCalendar\nhttps://shalomutah.
 org/united-jewish-federation-of-utah-calendar/mens-group\n\nJoin men from 
 across the community for a night of discussion and fun. We ask for a $15 d
 onation to help cover the cost of the catered dinner.\n\nQuestions or to 
 RSVP contact Alex Shapiro at ashapiro@shalomutah.org
DTSTART;TZID=America/Denver:20181011T180000
DTEND;TZID=America/Denver:20181011T200000
END:VEVENT
END:VCALENDAR
