BEGIN:VCALENDAR
PRODID:-//eluceo/ical//2.0/EN
VERSION:2.0
CALSCALE:GREGORIAN
BEGIN:VEVENT
UID:f09072c4eb112097e8e3f8004ca4638e
DTSTAMP:20260420T094933Z
SUMMARY:Men's Night Out
DESCRIPTION:United Jewish Federation of Utah\nCalendar\nhttps://shalomutah.
 org/united-jewish-federation-of-utah-calendar/mens-night-out\n\nMore Info 
 to come :)
DTSTART;TZID=America/Denver:20190314T180000
DTEND;TZID=America/Denver:20190314T200000
END:VEVENT
END:VCALENDAR
