BEGIN:VCALENDAR
PRODID:-//eluceo/ical//2.0/EN
VERSION:2.0
CALSCALE:GREGORIAN
BEGIN:VEVENT
UID:c201ee77ce57caf99eded824e03954f8
DTSTAMP:20260421T150131Z
SUMMARY:Men’s Night Out
DESCRIPTION:United Jewish Federation of Utah\nCalendar\nhttps://shalomutah.
 org/united-jewish-federation-of-utah-calendar/mens-night-out-1\n\nBio: Rab
 bi Samuel Spector (Congregation Kol Ami) was born and raised in Seattle\, 
 Washington. He graduated Cum Laude from the University of California with 
 a B.A. in Judaic Studies and a minor in Behavioral Psychology.  Rabbi Sam
  received his Masters in Hebrew Letters and Rabbinic Ordination from the H
 ebrew Union College-Jewish Institute of Religion in Los Angeles. Rabbi Spe
 ctor brings his love of children and young families to Congregation Kol Am
 i. He is passionate about adult education\, Isr...
DTSTART;TZID=America/Denver:20220209T190000
DTEND;TZID=America/Denver:20220209T200000
END:VEVENT
END:VCALENDAR
