BEGIN:VCALENDAR
PRODID:-//eluceo/ical//2.0/EN
VERSION:2.0
CALSCALE:GREGORIAN
BEGIN:VEVENT
UID:bf17a1dfc2e93eb5988ef63cee3ab86c
DTSTAMP:20260421T183324Z
SUMMARY:Men's Night Out
DESCRIPTION:United Jewish Federation of Utah\nCalendar\nhttps://shalomutah.
 org/united-jewish-federation-of-utah-calendar/mens-night-out-1565286043\n\
 nProducing the Olympics for 200 Countries\n\nSpeaker: Hank Levine\n\nBio: 
 Hank Levine is credited with planning and producing highly acclaimed telev
 ision for many of the world’s largest sporting events such as FIFA World
  Cup Soccer\, World Cup Skiing\, Pan American Games\, European Games\, and
  most notably every Olympic Games since 1992. He has spent the last 15 yea
 rs as the CFO for a subsidiary of the International Olympic Committee wher
 e he was also one of the founding employees. Hank’s exci...
DTSTART;TZID=America/Denver:20190821T180000
DTEND;TZID=America/Denver:20190821T200000
END:VEVENT
END:VCALENDAR
