BEGIN:VCALENDAR
PRODID:-//eluceo/ical//2.0/EN
VERSION:2.0
CALSCALE:GREGORIAN
BEGIN:VEVENT
UID:d8a8ecf85f80ecb3e94e83e4501e637f
DTSTAMP:20260420T225002Z
SUMMARY:Men's Night Out
DESCRIPTION:United Jewish Federation of Utah\nCalendar\nhttps://shalomutah.
 org/united-jewish-federation-of-utah-calendar/mens-night-out-1570216134\n\
 nTopic: Leading Marriott's Worldwide Timeshare Business\nSpeaker: Ron Essi
 g
DTSTART;TZID=America/Denver:20191030T180000
DTEND;TZID=America/Denver:20191030T200000
END:VEVENT
END:VCALENDAR
