BEGIN:VCALENDAR
PRODID:-//eluceo/ical//2.0/EN
VERSION:2.0
CALSCALE:GREGORIAN
BEGIN:VEVENT
UID:acf8509be41c82d9f20bc6ac8b7a5eee
DTSTAMP:20260420T211737Z
SUMMARY:Men's Night Out
DESCRIPTION:United Jewish Federation of Utah\nCalendar\nhttps://shalomutah.
 org/united-jewish-federation-of-utah-calendar/mens-night-out-1574193624\n\
 nComing soon...
DTSTART;TZID=America/Denver:20191218T180000
DTEND;TZID=America/Denver:20191218T200000
END:VEVENT
END:VCALENDAR
