BEGIN:VCALENDAR
PRODID:-//eluceo/ical//2.0/EN
VERSION:2.0
CALSCALE:GREGORIAN
BEGIN:VEVENT
UID:3b080cb54002f96d562a11b47c590ded
DTSTAMP:20260419T165035Z
SUMMARY:Men's Night Out: Behind the Government's Curtain
DESCRIPTION:United Jewish Federation of Utah\nCalendar\nhttps://shalomutah.
 org/united-jewish-federation-of-utah-calendar/mens-night-out-Mar-2023\n\nB
 ehind the Government's Curtain\n\nMarch 23rd @6:00 PM\n\nCottonwood Height
 s (Salt Lake City)\n\nPlease join us for our next Men’s Night Out. Our g
 uest presenter will be our own Fritz Edelstein\, who will share his experi
 ences\, and behind the scenes perspective\, of his almost 30 years working
  for the U.S. Department of Education. Fritz served from 1974 to 2003 in 
 a variety of educational positions at the U.S. Department of Education. 
  His last position\, from 1993 to 2003\, was as the Direc...
DTSTART;TZID=America/Denver:20230323T180000
DTEND;TZID=America/Denver:20230323T200000
END:VEVENT
END:VCALENDAR
