BEGIN:VCALENDAR
PRODID:-//eluceo/ical//2.0/EN
VERSION:2.0
CALSCALE:GREGORIAN
BEGIN:VEVENT
UID:10b85edd5f8f0b8cb9c0da6ff45d3018
DTSTAMP:20260420T193232Z
SUMMARY:Men's Night Out: National Treasure
DESCRIPTION:United Jewish Federation of Utah\nCalendar\nhttps://shalomutah.
 org/united-jewish-federation-of-utah-calendar/mens-night-out-national-trea
 sure\n\nGuest Speaker: Robert Keiter\, University of Utah Law Professor\n\
 nTopic: University of Utah Law Professor Robert Keiter is nationally reco
 gnized as one of the leading authorities on our National Park systems. He 
 has written numerous books and articles on public lands\, addressing such 
 topics as national parks\, ecosystem management\, wildfire policy\, and bi
 odiversity conservation. He serves as a Trustee of the National Parks Cons
 ervation Association and the Rocky Mountain Mineral Law Foundation...
DTSTART;TZID=America/Denver:20220914T180000
DTEND;TZID=America/Denver:20220914T200000
END:VEVENT
END:VCALENDAR
